BEGIN:VCALENDAR
VERSION:2.0
PRODID:-//Tukios.com/
BEGIN:VEVENT
UID:bef7b7b2-8ca2-488e-a2df-6ce534d9dc1e@www.meyerbroschapels.com
DTSTAMP:20260422T045354Z
DTSTART:20260425T170000Z
DTEND:20260425T180000Z
SUMMARY:Visitation
DESCRIPTION:
URL:https://www.meyerbroschapels.com/obituaries/william-twohig
LOCATION:Mohr & Becker-Hunt Funeral Home 1431 W 29th St  South Sioux City 
	NE 68776
GEO:42.4629932;-96.4307246
END:VEVENT
END:VCALENDAR