BEGIN:VCALENDAR
VERSION:2.0
PRODID:-//Tukios.com/
BEGIN:VEVENT
UID:2eb75229-3278-47e2-b74e-cc6387123ef9@www.meyerbroschapels.com
DTSTAMP:20260422T045521Z
DTSTART:20260425T180000Z
DTEND:20260425T190000Z
SUMMARY:Memorial Service
DESCRIPTION:
URL:https://www.meyerbroschapels.com/obituaries/william-twohig
LOCATION:Mohr & Becker-Hunt Funeral Home 1431 W 29th St  South Sioux City 
	NE 68776
GEO:42.4629932;-96.4307246
END:VEVENT
END:VCALENDAR