BEGIN:VCALENDAR
VERSION:2.0
PRODID:-//Tukios.com/
BEGIN:VEVENT
UID:b778a856-016b-473b-beba-479067060295@www.meyerbroschapels.com
DTSTAMP:20260421T015926Z
DTSTART:20260425T200000Z
DTEND:20260425T220000Z
SUMMARY:Visitation
DESCRIPTION:
URL:https://www.meyerbroschapels.com/obituaries/steven-steve-horton
LOCATION: 3220 Stone Park Blvd  Sioux City IA 51104
GEO:42.526419;-96.4148925
END:VEVENT
END:VCALENDAR