BEGIN:VCALENDAR
VERSION:2.0
PRODID:-//Tukios.com/
BEGIN:VEVENT
UID:1fe07861-7e9b-493b-ac6b-7dc67c25fb8b@www.meyerbroschapels.com
DTSTAMP:20260421T020200Z
DTSTART:20260425T220000Z
DTEND:20260425T230000Z
SUMMARY:Celebration of Life
DESCRIPTION:
URL:https://www.meyerbroschapels.com/obituaries/steven-steve-horton
LOCATION: 3220 Stone Park Blvd  Sioux City IA 51104
GEO:42.526419;-96.4148925
END:VEVENT
END:VCALENDAR