BEGIN:VCALENDAR
VERSION:2.0
PRODID:-//Tukios.com/
BEGIN:VEVENT
UID:6a712a86-2c0c-40f9-a6be-95f877369ca3@www.meyerbroschapels.com
DTSTAMP:20260424T084506Z
DTSTART:20260426T153000Z
DTEND:20260426T163000Z
SUMMARY:Graveside Service
DESCRIPTION:
URL:https://www.meyerbroschapels.com/obituaries/paul-kaiman
LOCATION:Mt. Carmel Jewish Cemetery 3000 7th St.  Sioux City IA 51105
GEO:42.4966011;-96.3684759
END:VEVENT
END:VCALENDAR