BEGIN:VCALENDAR
VERSION:2.0
PRODID:-//Tukios.com/
BEGIN:VEVENT
UID:ae398a67-24b7-47da-a427-c6eb3d186c75@www.meyerbroschapels.com
DTSTAMP:20260424T083557Z
DTSTART:20260426T163000Z
DTEND:20260426T173000Z
SUMMARY:Memorial Service
DESCRIPTION:
URL:https://www.meyerbroschapels.com/obituaries/paul-kaiman
LOCATION:Congregation Beth Shalom 815 35th St  Sioux City IA 51104
GEO:42.5307694;-96.4006807
END:VEVENT
END:VCALENDAR