BEGIN:VCALENDAR
VERSION:2.0
PRODID:-//Tukios.com/
BEGIN:VEVENT
UID:3ac7f407-9a9e-4fdd-958b-fd206afd7c6a@www.meyerbroschapels.com
DTSTAMP:20260424T172318Z
DTSTART:20260512T164500Z
DTEND:20260512T171500Z
SUMMARY:Burial with Military Honors
DESCRIPTION:Following services at the cemetery there will be a luncheon 
	and time of fellowship in the Parish Hall at Immaculate Conception 
	Church.
URL:https://www.meyerbroschapels.com/obituaries/paul-bohlke
LOCATION:Graceland Cemetery 2701 S Lakeport St  Sioux City IA 51106
GEO:42.4606921;-96.3484674
END:VEVENT
END:VCALENDAR