BEGIN:VCALENDAR
VERSION:2.0
PRODID:-//Tukios.com/
BEGIN:VEVENT
UID:7b5404bd-62ae-42b0-b285-85da903ad1ca@www.meyerbroschapels.com
DTSTAMP:20260424T172326Z
DTSTART:20260512T153000Z
DTEND:20260512T163000Z
SUMMARY:Mass
DESCRIPTION:
URL:https://www.meyerbroschapels.com/obituaries/paul-bohlke
LOCATION: 1212 Morningside Ave  Sioux City IA 51106
GEO:42.4783943;-96.3607511
END:VEVENT
END:VCALENDAR