BEGIN:VCALENDAR
VERSION:2.0
PRODID:-//Tukios.com/
BEGIN:VEVENT
UID:5f33ffd3-1517-4d72-8209-d735735645c5@www.meyerbroschapels.com
DTSTAMP:20260424T172057Z
DTSTART:20260512T000000Z
DTEND:20260512T010000Z
SUMMARY:Vigil Service
DESCRIPTION:
URL:https://www.meyerbroschapels.com/obituaries/paul-bohlke
LOCATION: 3220 Stone Park Blvd  Sioux City IA 51104
GEO:42.526419;-96.4148925
END:VEVENT
END:VCALENDAR