BEGIN:VCALENDAR
VERSION:2.0
PRODID:-//Tukios.com/
BEGIN:VEVENT
UID:4e57ce77-e4a2-4896-8f72-fcb24ffcf3b0@www.meyerbroschapels.com
DTSTAMP:20260424T172214Z
DTSTART:20260511T220000Z
DTEND:20260512T000000Z
SUMMARY:Visitation
DESCRIPTION:
URL:https://www.meyerbroschapels.com/obituaries/paul-bohlke
LOCATION: 3220 Stone Park Blvd  Sioux City IA 51104
GEO:42.526419;-96.4148925
END:VEVENT
END:VCALENDAR