BEGIN:VCALENDAR
VERSION:2.0
PRODID:-//Tukios.com/
BEGIN:VEVENT
UID:23e2859f-1ede-41f9-9c77-3b3f46b185ad@www.meyerbroschapels.com
DTSTAMP:20260422T045105Z
DTSTART:20260429T153000Z
DTEND:20260429T163000Z
SUMMARY:Funeral Service
DESCRIPTION:
URL:https://www.meyerbroschapels.com/obituaries/margaret-hinrichsen
LOCATION:Nativity Church 4241 Natalia Way  Sioux City IA 51106
GEO:42.4524433;-96.3546
END:VEVENT
END:VCALENDAR