BEGIN:VCALENDAR
VERSION:2.0
PRODID:-//Tukios.com/
BEGIN:VEVENT
UID:db8d030d-675d-47e3-995c-228b51fb4c47@www.meyerbroschapels.com
DTSTAMP:20260422T045526Z
DTSTART:20260428T210000Z
DTEND:20260428T230000Z
SUMMARY:Visitation
DESCRIPTION:
URL:https://www.meyerbroschapels.com/obituaries/margaret-hinrichsen
LOCATION:Meyer Brothers Morningside Chapel 6200 Morningside Ave  Sioux 
	City IA 51106
GEO:42.4584079;-96.3269156
END:VEVENT
END:VCALENDAR