BEGIN:VCALENDAR
VERSION:2.0
PRODID:-//Tukios.com/
BEGIN:VEVENT
UID:feab7ee0-4100-41e0-9b91-8e39426508f6@www.meyerbroschapels.com
DTSTAMP:20260421T082559Z
DTSTART:20260422T153000Z
DTEND:20260422T163000Z
SUMMARY:Mass
DESCRIPTION:
URL:https://www.meyerbroschapels.com/obituaries/karen-k-smith
LOCATION: 5010 Military Rd  Sioux City IA 51103
GEO:42.5195093;-96.4729717
END:VEVENT
END:VCALENDAR