BEGIN:VCALENDAR
VERSION:2.0
PRODID:-//Tukios.com/
BEGIN:VEVENT
UID:934cd561-7c0c-4f59-ba9c-107d1b7c2fdf@www.meyerbroschapels.com
DTSTAMP:20260421T082649Z
DTSTART:20260421T220000Z
DTEND:20260421T230000Z
SUMMARY:Rosary
DESCRIPTION:
URL:https://www.meyerbroschapels.com/obituaries/karen-k-smith
LOCATION: 3220 Stone Park Blvd  Sioux City IA 51104
GEO:42.526419;-96.4148925
END:VEVENT
END:VCALENDAR