BEGIN:VCALENDAR
VERSION:2.0
PRODID:-//Tukios.com/
BEGIN:VEVENT
UID:b639c5aa-57c3-4f6c-abd1-7e4674cb1703@www.meyerbroschapels.com
DTSTAMP:20260421T081930Z
DTSTART:20260421T220000Z
DTEND:20260422T000000Z
SUMMARY:Visitation
DESCRIPTION:
URL:https://www.meyerbroschapels.com/obituaries/karen-k-smith
LOCATION: 3220 Stone Park Blvd  Sioux City IA 51104
GEO:42.526419;-96.4148925
END:VEVENT
END:VCALENDAR