BEGIN:VCALENDAR
VERSION:2.0
PRODID:-//Tukios.com/
BEGIN:VEVENT
UID:2cee8eb3-3140-42d3-9277-89534b8b0326@www.meyerbroschapels.com
DTSTAMP:20260422T002259Z
DTSTART:20260425T000000Z
DTEND:20260425T001500Z
SUMMARY:Prayer Service
DESCRIPTION:
URL:https://www.meyerbroschapels.com/obituaries/james-jones
LOCATION: 6200 Morningside Ave  Sioux City IA 51106
GEO:42.4584079;-96.3269156
END:VEVENT
END:VCALENDAR