BEGIN:VCALENDAR
VERSION:2.0
PRODID:-//Tukios.com/
BEGIN:VEVENT
UID:543802ba-03b8-4278-b789-52632ffdbec2@www.meyerbroschapels.com
DTSTAMP:20260422T001917Z
DTSTART:20260425T160000Z
DTEND:20260425T170000Z
SUMMARY:Memorial Service
DESCRIPTION:
URL:https://www.meyerbroschapels.com/obituaries/james-jones
LOCATION: 6200 Morningside Ave  Sioux City IA 51106
GEO:42.4584079;-96.3269156
END:VEVENT
END:VCALENDAR