BEGIN:VCALENDAR
VERSION:2.0
PRODID:-//Tukios.com/
BEGIN:VEVENT
UID:0edde34a-a5a6-4279-9a8b-d71e95250e42@www.meyerbroschapels.com
DTSTAMP:20260422T001428Z
DTSTART:20260424T220000Z
DTEND:20260425T000000Z
SUMMARY:Visitation
DESCRIPTION:
URL:https://www.meyerbroschapels.com/obituaries/james-jones
LOCATION:Meyer Brothers Morningside Chapel 6200 Morningside Ave  Sioux 
	City IA 51106
GEO:42.4584079;-96.3269156
END:VEVENT
END:VCALENDAR