BEGIN:VCALENDAR
VERSION:2.0
PRODID:-//Tukios.com/
BEGIN:VEVENT
UID:c8eb1577-75fb-4f00-8f1b-b2735f736c03@www.meyerbroschapels.com
DTSTAMP:20260421T083804Z
DTSTART:20260420T160000Z
DTEND:20260420T170000Z
SUMMARY:Funeral Service
DESCRIPTION:
URL:https://www.meyerbroschapels.com/obituaries/daryl-heimgartner
LOCATION: 612 Jennings Street  Sioux City IA 51101
GEO:42.4969963;-96.3988048
END:VEVENT
END:VCALENDAR