BEGIN:VCALENDAR
VERSION:2.0
PRODID:-//Tukios.com/
BEGIN:VEVENT
UID:c056a4b2-e291-4883-874c-7485e7398c55@www.meyerbroschapels.com
DTSTAMP:20260421T082157Z
DTSTART:20260419T210000Z
DTEND:20260419T220000Z
SUMMARY:Prayer Service
DESCRIPTION:
URL:https://www.meyerbroschapels.com/obituaries/daryl-heimgartner
LOCATION:Meyer Brothers Morningside Chapel 6200 Morningside Ave  Sioux 
	City IA 51106
GEO:42.4584079;-96.3269156
END:VEVENT
END:VCALENDAR